Workbook
Name _f408d64f_STF_Dekoration_1_CN39: [1]Inflation!#REF!
Name _f408d64f_STF_Dekoration_1_CN39: [1]Inflation!#REF!
Name _f408d64f_STF_Dekoration_1_CN40: [1]Inflation!#REF!
Name _f408d64f_STF_Dekoration_1_CN40: [1]Inflation!#REF!
Name _f408d64f_STF_Dekoration_1_CN41: [1]Inflation!#REF!
Name _f408d64f_STF_Dekoration_1_CN41: [1]Inflation!#REF!
Name _f408d64f_STF_Dekoration_1_CN43: [1]Inflation!#REF!
Name _f408d64f_STF_Dekoration_1_CN43: [1]Inflation!#REF!
Name _f408d64f_STF_Dekoration_1_CN44: [1]Inflation!#REF!
Name _f408d64f_STF_Dekoration_1_CN44: [1]Inflation!#REF!
Name _f408d64f_STF_Dekoration_1_CN45: [1]Inflation!#REF!
Name _f408d64f_STF_Dekoration_1_CN45: [1]Inflation!#REF!
Name _f408d64f_STF_Dekoration_1_CN46: [1]Inflation!#REF!
Name _f408d64f_STF_Dekoration_1_CN46: [1]Inflation!#REF!
Name _f408d64f_STF_Dekoration_1_CN47: [1]Inflation!#REF!
Name _f408d64f_STF_Dekoration_1_CN47: [1]Inflation!#REF!
Name _f408d64f_STF_Dekoration_1_CN48: [1]Inflation!#REF!
Name _f408d64f_STF_Dekoration_1_CN48: [1]Inflation!#REF!
Name _f408d64f_STF_Dekoration_1_CN49: [1]Inflation!#REF!
Name _f408d64f_STF_Dekoration_1_CN49: [1]Inflation!#REF!
Name _f408d64f_STF_Dekoration_1_CN50: [1]Inflation!#REF!
Name _f408d64f_STF_Dekoration_1_CN50: [1]Inflation!#REF!
Name _f408d64f_STF_Dekoration_3_CN1: [1]Inflation!#REF!
Name _f408d64f_STF_Dekoration_3_CN1: [1]Inflation!#REF!
Name _f408d64f_STF_Dekoration_3_CN2: [1]Inflation!#REF!
Name _f408d64f_STF_Dekoration_3_CN2: [1]Inflation!#REF!
Name _f408d64f_STF_Fuss_1_CN1: [1]Inflation!#REF!
Name _f408d64f_STF_Fuss_1_CN1: [1]Inflation!#REF!
Name _f408d64f_STF_Gesamtsumme_1_CN5: [1]Inflation!#REF!
Name _f408d64f_STF_Gesamtsumme_1_CN5: [1]Inflation!#REF!
Name _f408d64f_STF_Gesamtsumme_1_CN6: [1]Inflation!#REF!
Name _f408d64f_STF_Gesamtsumme_1_CN6: [1]Inflation!#REF!
Name _f408d64f_STF_Gesamtsumme_1_CN7: [1]Inflation!#REF!
Name _f408d64f_STF_Gesamtsumme_1_CN7: [1]Inflation!#REF!
Name _f408d64f_STF_Gesamtsumme_1_CN8: [1]Inflation!#REF!
Name _f408d64f_STF_Gesamtsumme_1_CN8: [1]Inflation!#REF!
Name _f408d64f_STF_Koerper_1_CN1: [1]Inflation!$B$5:$E$17,[1]Inflation!$F$5:$I$17,[1]Inflation!$J$5:$M$17
Name _f408d64f_STF_Koerper_1_CN2: [1]Inflation!#REF!
Name _f408d64f_STF_Koerper_1_CN2: [1]Inflation!#REF!
Name _f408d64f_STF_Tabellenkopf_1_CN1: [1]Inflation!#REF!
Name _f408d64f_STF_Tabellenkopf_1_CN1: [1]Inflation!#REF!
Name adsfadsf: [1]Inflation!#REF!
Name adsfadsf: [1]Inflation!#REF!
Name adsfadsfadf: [1]Inflation!#REF!
Name adsfadsfadf: [1]Inflation!#REF!
Name adsfadsfadsf: [1]Inflation!#REF!
Name asdfaasdfasdfadsf: [1]Inflation!#REF!
Name asdfaasdfasdfadsf: [1]Inflation!#REF!
Name asdfadsfadsfa: [1]Inflation!#REF!
Name asdfadsfadsfa: [1]Inflation!#REF!
Name Kunden: [2]Kundenliste!$A$3:$B$21
Name qwerqewrqer: [1]Inflation!#REF!
Name sdffffffff: [1]Inflation!#REF!
Name sdffffffff: [1]Inflation!#REF!
Name Spaltentitel1: '1'!$B$3
Name Spaltentitel1: '1 Lösung'!$B$3
Name Spaltentitel1: Einkaufsliste[[#Headers],[Erledigt?]]
Name Spaltentitel1: Einkaufsliste[[#Headers],[Erledigt?]]
Name Spaltentitel1: '2'!$B$3
Name Spaltentitel1: '2 Lösung'!$B$3

Sheet 1
B1: Einkaufsliste | E1: Anzahl erledigt:
B3: Erledigt? | C3: Artikel | D3: Kategorie | E3: Menge | F3: Preis | G3: Preis pro Artikel | H3: Marke/Kommentare
B4: ja | C4: Orangen | D4: Obst und Gemüse | E4: 3 | F4: 25 | G4: =E4*F4 -> 75
C5: Äpfel | D5: Obst und Gemüse | E5: 4 | F5: 30 | G5: =E5*F5 -> 120
C6: Bananen | D6: Obst und Gemüse | E6: 3 | F6: 25 | G6: =E6*F6 -> 75
B7: ja | C7: Salat | D7: Obst und Gemüse | E7: 4 | F7: 30 | G7: =E7*F7 -> 120
C8: Tomaten | D8: Obst und Gemüse | E8: 3 | F8: 25 | G8: =E8*F8 -> 75
C9: Milch | D9: Milchprodukte | F9: 30 | G9: =E9*F9 -> 0
B10: ja | C10: Käse | D10: Milchprodukte | E10: 3 | F10: 25 | G10: =E10*F10 -> 75
C11: Eier | D11: Milchprodukte | E11: 4 | F11: 30 | G11: =E11*F11 -> 120
C12: Hüttenkäse | D12: Milchprodukte | E12: 3 | F12: 25 | G12: =E12*F12 -> 75
B13: ja | C13: Rindfleisch | D13: Fleisch | F13: 30 | G13: =E13*F13 -> 0
B14: ja | C14: Geflügel | D14: Fleisch | E14: 3 | F14: 25 | G14: =E14*F14 -> 75
C15: Schinken | D15: Fleisch | E15: 4 | F15: 30 | G15: =E15*F15 -> 120
B16: ja | C16: Saft | D16: Getränke | E16: 3 | F16: 25 | G16: =E16*F16 -> 75
B17: ja | C17: Kaffee | D17: Getränke | F17: 30 | G17: =E17*F17 -> 0
C18: Tee | D18: Getränke | E18: 3 | F18: 25 | G18: =E18*F18 -> 75
C19: Wasser | D19: Getränke | E19: 4 | F19: 30 | G19: =E19*F19 -> 120
C20: Nudeln | D20: Teigwaren | E20: 3 | F20: 25 | G20: =E20*F20 -> 75
B21: ja | C21: Reis | D21: Teigwaren | F21: 30 | G21: =E21*F21 -> 0
B22: ja | C22: Konserve | D22: Suppe | E22: 3 | F22: 25 | G22: =E22*F22 -> 75
C23: Trockenmischung | D23: Suppe | E23: 4 | F23: 30 | G23: =E23*F23 -> 120
C24: Brot | D24: Backwaren | E24: 3 | F24: 25 | G24: =E24*F24 -> 75
C25: Kartoffelchips | D25: Snacks | F25: 30 | G25: =E25*F25 -> 0
C26: Brezeln | D26: Snacks | E26: 3 | F26: 25 | G26: =E26*F26 -> 75
C27: Speiseeis | D27: Snacks | E27: 4 | F27: 30 | G27: =E27*F27 -> 120
B28: ja | C28: Kekse | D28: Snacks | F28: 25 | G28: =E28*F28 -> 0
B29: ja | C29: Pappteller | D29: Vorrat | E29: 4 | F29: 30 | G29: =E29*F29 -> 120
C30: Servietten | D30: Vorrat | F30: 25 | G30: =E30*F30 -> 0

Sheet 1 Lösung
B1: Einkaufsliste | E1: Anzahl erledigt: | F1: =COUNTIF(B4:B30,"ja") -> 11
B3: Erledigt? | C3: Artikel | D3: Kategorie | E3: Menge | F3: Preis | G3: Preis pro Artikel | H3: Marke/Kommentare
B4: ja | C4: Orangen | D4: Obst und Gemüse | E4: 3 | F4: 25 | G4: =E4*F4 -> 75
C5: Äpfel | D5: Obst und Gemüse | E5: 4 | F5: 30 | G5: =E5*F5 -> 120
C6: Bananen | D6: Obst und Gemüse | E6: 3 | F6: 25 | G6: =E6*F6 -> 75
B7: ja | C7: Salat | D7: Obst und Gemüse | E7: 4 | F7: 30 | G7: =E7*F7 -> 120
C8: Tomaten | D8: Obst und Gemüse | E8: 3 | F8: 25 | G8: =E8*F8 -> 75
C9: Milch | D9: Milchprodukte | F9: 30 | G9: =E9*F9 -> 0
B10: ja | C10: Käse | D10: Milchprodukte | E10: 3 | F10: 25 | G10: =E10*F10 -> 75
C11: Eier | D11: Milchprodukte | E11: 4 | F11: 30 | G11: =E11*F11 -> 120
C12: Hüttenkäse | D12: Milchprodukte | E12: 3 | F12: 25 | G12: =E12*F12 -> 75
B13: ja | C13: Rindfleisch | D13: Fleisch | F13: 30 | G13: =E13*F13 -> 0
B14: ja | C14: Geflügel | D14: Fleisch | E14: 3 | F14: 25 | G14: =E14*F14 -> 75
C15: Schinken | D15: Fleisch | E15: 4 | F15: 30 | G15: =E15*F15 -> 120
B16: ja | C16: Saft | D16: Getränke | E16: 3 | F16: 25 | G16: =E16*F16 -> 75
B17: ja | C17: Kaffee | D17: Getränke | F17: 30 | G17: =E17*F17 -> 0
C18: Tee | D18: Getränke | E18: 3 | F18: 25 | G18: =E18*F18 -> 75
C19: Wasser | D19: Getränke | E19: 4 | F19: 30 | G19: =E19*F19 -> 120
C20: Nudeln | D20: Teigwaren | E20: 3 | F20: 25 | G20: =E20*F20 -> 75
B21: ja | C21: Reis | D21: Teigwaren | F21: 30 | G21: =E21*F21 -> 0
B22: ja | C22: Konserve | D22: Suppe | E22: 3 | F22: 25 | G22: =E22*F22 -> 75
C23: Trockenmischung | D23: Suppe | E23: 4 | F23: 30 | G23: =E23*F23 -> 120
C24: Brot | D24: Backwaren | E24: 3 | F24: 25 | G24: =E24*F24 -> 75
C25: Kartoffelchips | D25: Snacks | F25: 30 | G25: =E25*F25 -> 0
C26: Brezeln | D26: Snacks | E26: 3 | F26: 25 | G26: =E26*F26 -> 75
C27: Speiseeis | D27: Snacks | E27: 4 | F27: 30 | G27: =E27*F27 -> 120
B28: ja | C28: Kekse | D28: Snacks | F28: 25 | G28: =E28*F28 -> 0
B29: ja | C29: Pappteller | D29: Vorrat | E29: 4 | F29: 30 | G29: =E29*F29 -> 120
C30: Servietten | D30: Vorrat | F30: 25 | G30: =E30*F30 -> 0

Sheet 2
B1: Einkaufsliste | E1: Anzahl erledigt: | F1: =COUNTIF(B4:B12,"ja") -> 3
B3: Erledigt? | C3: Artikel | D3: Kategorie | E3: Menge | F3: Preis | G3: Preis pro Artikel | H3: Marke/Kommentare
B4: ja | C4: Orangen | D4: Obst und Gemüse | E4: 3 | F4: 25 | G4: =E4*F4 -> 75
C5: Äpfel | D5: Obst und Gemüse | E5: 4 | F5: 30 | G5: =E5*F5 -> 120
C6: Bananen | D6: Obst und Gemüse | E6: 3 | F6: 25 | G6: =E6*F6 -> 75
B7: ja | C7: Salat | D7: Obst und Gemüse | E7: 4 | F7: 30 | G7: =E7*F7 -> 120
C8: Tomaten | D8: Obst und Gemüse | E8: 3 | F8: 25 | G8: =E8*F8 -> 75
C9: Milch | D9: Milchprodukte | F9: 30 | G9: =E9*F9 -> 0
B10: ja | C10: Käse | D10: Milchprodukte | E10: 3 | F10: 25 | G10: =E10*F10 -> 75
C11: Eier | D11: Milchprodukte | E11: 4 | F11: 30 | G11: =E11*F11 -> 120
C12: Hüttenkäse | D12: Milchprodukte | E12: 3 | F12: 25 | G12: =E12*F12 -> 75

Sheet 2 Lösung
B1: Einkaufsliste | E1: Anzahl erledigt: | F1: =COUNTIF(B4:B12,"ja") -> 3
B3: Erledigt? | C3: Artikel | D3: Kategorie | E3: Menge | F3: Preis/Artikel | G3: Preis | H3: Marke/Kommentare
B4: ja | C4: Orangen | D4: Obst und Gemüse | E4: 3 | F4: 25 | G4: =E4*F4 -> 75
C5: Äpfel | D5: Obst und Gemüse | E5: 4 | F5: 30 | G5: =E5*F5 -> 120
C6: Bananen | D6: Obst und Gemüse | E6: 3 | F6: 25 | G6: =E6*F6 -> 75
B7: ja | C7: Salat | D7: Obst und Gemüse | E7: 4 | F7: 30 | G7: =E7*F7 -> 120
C8: Tomaten | D8: Obst und Gemüse | E8: 3 | F8: 25 | G8: =E8*F8 -> 75
C9: Milch | D9: Milchprodukte | F9: 30 | G9: =E9*F9 -> 0
B10: ja | C10: Käse | D10: Milchprodukte | E10: 3 | F10: 25 | G10: =E10*F10 -> 75
C11: Eier | D11: Milchprodukte | E11: 4 | F11: 30 | G11: =E11*F11 -> 120
C12: Hüttenkäse | D12: Milchprodukte | E12: 3 | F12: 25 | G12: =E12*F12 -> 75
B14: Artikel | C14: Orangen | D14: Äpfel | E14: Bananen | F14: Salat
B15: Kategorie | C15: Obst und Gemüse | D15: Obst und Gemüse | E15: Obst und Gemüse | F15: Obst und Gemüse
B16: Menge | C16: 3 | D16: 4 | E16: 3 | F16: 4

Sheet 3
B1: Einkaufsliste | E1: Anzahl erledigt: | F1: =COUNTIF(B4:B12,"ja") -> 3
B3: Erledigt? | C3: Artikel | D3: Kategorie | E3: Preis/Artikel 2019 | F3: Preis/Artikel 2020 | G3: Preis/Artikel 2021 | H3: Marke/Kommentare
B4: ja | C4: Orangen | D4: Obst und Gemüse | E4: 25 | F4: 26.5225 | G4: 26.5225
C5: Äpfel | D5: Obst und Gemüse | E5: 30 | F5: 31.827 | G5: 31.827
C6: Bananen | D6: Obst und Gemüse | E6: 25 | F6: 25.75 | G6: 26.5225
B7: ja | C7: Salat | D7: Obst und Gemüse | E7: 30 | F7: 30.9 | G7: 31.827
C8: Tomaten | D8: Obst und Gemüse | E8: 25 | F8: 27.0375 | G8: 26.5225
C9: Milch | D9: Milchprodukte | E9: 30 | F9: 32.445 | G9: 31.827
B10: ja | C10: Käse | D10: Milchprodukte | E10: 25 | F10: 25.75 | G10: 26.5225
C11: Eier | D11: Milchprodukte | E11: 30 | F11: 32.445 | G11: 31.827
C12: Hüttenkäse | D12: Milchprodukte | E12: 25 | F12: 27.0375 | G12: 26.5225

Sheet 3 (2)
B1: Einkaufsliste | E1: Anzahl erledigt: | F1: =COUNTIF(B4:B12,"ja") -> 3
B3: Erledigt? | C3: Artikel | D3: Kategorie | E3: Preis/Artikel 2019 | F3: Preis/Artikel 2020 | G3: Preis/Artikel 2021 | H3: Marke/Kommentare
B4: ja | C4: Orangen | D4: Obst und Gemüse | E4: 25 | F4: 26.5225 | G4: 26.5225
C5: Äpfel | D5: Obst und Gemüse | E5: 30 | F5: 31.827 | G5: 31.827
C6: Bananen | D6: Obst und Gemüse | E6: 25 | F6: 25.75 | G6: 26.5225
B7: ja | C7: Salat | D7: Obst und Gemüse | E7: 30 | F7: 30.9 | G7: 31.827
C8: Tomaten | D8: Obst und Gemüse | E8: 25 | F8: 27.0375 | G8: 26.5225
C9: Milch | D9: Milchprodukte | E9: 30 | F9: 32.445 | G9: 31.827
B10: ja | C10: Käse | D10: Milchprodukte | E10: 25 | F10: 25.75 | G10: 26.5225
C11: Eier | D11: Milchprodukte | E11: 30 | F11: 32.445 | G11: 31.827
C12: Hüttenkäse | D12: Milchprodukte | E12: 25 | F12: 27.0375 | G12: 26.5225

Sheet 3 Lösung
B1: Einkaufsliste | E1: Anzahl erledigt: | F1: =COUNTIF(B4:B12,"ja") -> 3
B3: Erledigt? | C3: Artikel | D3: Kategorie | E3: Preis/Artikel 2019 | F3: Preis/Artikel 2020 | G3: Preis/Artikel 2021 | H3: Marke/Kommentare
B4: ja | C4: Orangen | D4: Obst und Gemüse | E4: 25 | F4: 26.5225 | G4: 26.5225
C5: Äpfel | D5: Obst und Gemüse | E5: 30 | F5: 31.827 | G5: 31.827
C6: Bananen | D6: Obst und Gemüse | E6: 25 | F6: 25.75 | G6: 26.5225
B7: ja | C7: Salat | D7: Obst und Gemüse | E7: 30 | F7: 30.9 | G7: 31.827
C8: Tomaten | D8: Obst und Gemüse | E8: 25 | F8: 27.0375 | G8: 26.5225
C9: Milch | D9: Milchprodukte | E9: 30 | F9: 32.445 | G9: 31.827
B10: ja | C10: Käse | D10: Milchprodukte | E10: 25 | F10: 25.75 | G10: 26.5225
C11: Eier | D11: Milchprodukte | E11: 30 | F11: 32.445 | G11: 31.827
C12: Hüttenkäse | D12: Milchprodukte | E12: 25 | F12: 27.0375 | G12: 26.5225

Sheet 4
B1: Einkaufsliste | E1: Anzahl erledigt: | F1: =COUNTIF(B4:B12,"ja") -> 3
B3: Erledigt? | C3: Artikel | D3: Kategorie | E3: Menge | F3: Preis/Artikel | G3: Preis | H3: Marke/Kommentare
B4: ja | C4: Orangen | D4: Obst und Gemüse | E4: 3 | F4: 25 | G4: =E4*F4 -> 75
C5: Äpfel | D5: Obst und Gemüse | E5: 4 | F5: 30 | G5: =E5*F5 -> 120
C6: Bananen | D6: Obst und Gemüse | E6: 3 | F6: 25 | G6: =E6*F6 -> 75
B7: ja | C7: Salat | D7: Obst und Gemüse | E7: 4 | F7: 30 | G7: =E7*F7 -> 120
C8: Tomaten | D8: Obst und Gemüse | E8: 3 | F8: 25 | G8: =E8*F8 -> 75
C9: Milch | D9: Milchprodukte | F9: 30 | G9: =E9*F9 -> 0
B10: ja | C10: Käse | D10: Milchprodukte | E10: 3 | F10: 25 | G10: =E10*F10 -> 75
C11: Eier | D11: Milchprodukte | E11: 4 | F11: 30 | G11: =E11*F11 -> 120
C12: Hüttenkäse | D12: Milchprodukte | E12: 3 | F12: 25 | G12: =E12*F12 -> 75

Sheet 4 (2)
B1: Einkaufsliste | E1: Anzahl erledigt: | F1: =COUNTIF(B4:B12,"ja") -> 3
B3: Erledigt? | C3: Artikel | D3: Kategorie | E3: Menge | F3: Preis/Artikel | G3: Preis | H3: Marke/Kommentare
B4: ja | C4: Orangen | D4: Obst und Gemüse | E4: 3 | F4: 25 | G4: =E4*F4 -> 75
C5: Äpfel | D5: Obst und Gemüse | E5: 4 | F5: 30 | G5: =E5*F5 -> 120
C6: Bananen | D6: Obst und Gemüse | E6: 3 | F6: 25 | G6: =E6*F6 -> 75
B7: ja | C7: Salat | D7: Obst und Gemüse | E7: 4 | F7: 30 | G7: =E7*F7 -> 120
C8: Tomaten | D8: Obst und Gemüse | E8: 3 | F8: 25 | G8: =E8*F8 -> 75
C9: Milch | D9: Milchprodukte | F9: 30 | G9: =E9*F9 -> 0
B10: ja | C10: Käse | D10: Milchprodukte | E10: 3 | F10: 25 | G10: =E10*F10 -> 75
C11: Eier | D11: Milchprodukte | E11: 4 | F11: 30 | G11: =E11*F11 -> 120
C12: Hüttenkäse | D12: Milchprodukte | E12: 3 | F12: 25 | G12: =E12*F12 -> 75

Sheet 4 Lösung
B1: Einkaufsliste | E1: Anzahl erledigt: | F1: =COUNTIF(B4:B12,"ja") -> 3
B3: Erledigt? | C3: Artikel | D3: Kategorie | E3: Menge | F3: Preis/Artikel | G3: Preis | H3: Marke/Kommentare
B4: ja | C4: Orangen | D4: Obst und Gemüse | E4: 3 | F4: 25 | G4: =E4*F4 -> 75
C5: Äpfel | D5: Obst und Gemüse | E5: 4 | F5: 30 | G5: =E5*F5 -> 120
C6: Bananen | D6: Obst und Gemüse | E6: 3 | F6: 25 | G6: =E6*F6 -> 75
B7: ja | C7: Salat | D7: Obst und Gemüse | E7: 4 | F7: 30 | G7: =E7*F7 -> 120
C8: Tomaten | D8: Obst und Gemüse | E8: 3 | F8: 25 | G8: =E8*F8 -> 75
C9: Milch | D9: Milchprodukte | F9: 30 | G9: =E9*F9 -> 0
B10: ja | C10: Käse | D10: Milchprodukte | E10: 3 | F10: 25 | G10: =E10*F10 -> 75
C11: Eier | D11: Milchprodukte | E11: 4 | F11: 30 | G11: =E11*F11 -> 120
C12: Hüttenkäse | D12: Milchprodukte | E12: 3 | F12: 25 | G12: =E12*F12 -> 75

Sheet 5
B1: Einkauf
B3: Artikel | C3: Kategorie | D3: Einkäufe 2019 bis 2021 - Summe
B4: Orangen | C4: Obst und Gemüse
B5: Äpfel | C5: Obst und Gemüse
B6: Bananen | C6: Obst und Gemüse
B7: Salat | C7: Obst und Gemüse
B8: Tomaten | C8: Obst und Gemüse
B9: Milch | C9: Milchprodukte
B10: Käse | C10: Milchprodukte
B11: Eier | C11: Milchprodukte
B12: Hüttenkäse | C12: Milchprodukte

Sheet 2019
B1: Einkauf
B3: Artikel | C3: Kategorie | D3: 2019
B4: Orangen | C4: Obst und Gemüse | D4: 25
B5: Äpfel | C5: Obst und Gemüse | D5: 30
B6: Bananen | C6: Obst und Gemüse | D6: 25
B7: Salat | C7: Obst und Gemüse | D7: 30
B8: Tomaten | C8: Obst und Gemüse | D8: 25
B9: Milch | C9: Milchprodukte | D9: 30
B10: Käse | C10: Milchprodukte | D10: 25
B11: Eier | C11: Milchprodukte | D11: 30
B12: Hüttenkäse | C12: Milchprodukte | D12: 25
D14: 100

Sheet 2020
B1: Einkauf
B3: Artikel | C3: Kategorie | D3: 2020
B4: Orangen | C4: Obst und Gemüse | D4: 25
B5: Äpfel | C5: Obst und Gemüse | D5: 30
B6: Bananen | C6: Obst und Gemüse | D6: 25
B7: Salat | C7: Obst und Gemüse | D7: 30
B8: Tomaten | C8: Obst und Gemüse | D8: 25
B9: Milch | C9: Milchprodukte | D9: 30
B10: Käse | C10: Milchprodukte | D10: 25
B11: Eier | C11: Milchprodukte | D11: 30
B12: Hüttenkäse | C12: Milchprodukte | D12: 25

Sheet 2021
B1: Einkauf
B3: Artikel | C3: Kategorie | D3: 2021
B4: Orangen | C4: Obst und Gemüse | D4: 25
B5: Äpfel | C5: Obst und Gemüse | D5: 30
B6: Bananen | C6: Obst und Gemüse | D6: 25
B7: Salat | C7: Obst und Gemüse | D7: 30
B8: Tomaten | C8: Obst und Gemüse | D8: 25
B9: Milch | C9: Milchprodukte | D9: 30
B10: Käse | C10: Milchprodukte | D10: 25
B11: Eier | C11: Milchprodukte | D11: 30
B12: Hüttenkäse | C12: Milchprodukte | D12: 25

Sheet 5 Lösung
B1: Einkauf
B3: Artikel | C3: Kategorie | D3: Einkäufe 2019 bis 2021 - Summe
B4: Orangen | C4: Obst und Gemüse | D4: =SUM('2019:2021'!D4) -> 75
B5: Äpfel | C5: Obst und Gemüse | D5: =SUM('2019:2021'!D5) -> 90
B6: Bananen | C6: Obst und Gemüse | D6: =SUM('2019:2021'!D6) -> 75
B7: Salat | C7: Obst und Gemüse | D7: =SUM('2019:2021'!D7) -> 90
B8: Tomaten | C8: Obst und Gemüse | D8: =SUM('2019:2021'!D8) -> 75
B9: Milch | C9: Milchprodukte | D9: =SUM('2019:2021'!D9) -> 90
B10: Käse | C10: Milchprodukte | D10: =SUM('2019:2021'!D10) -> 75
B11: Eier | C11: Milchprodukte | D11: =SUM('2019:2021'!D11) -> 90
B12: Hüttenkäse | C12: Milchprodukte | D12: =SUM('2019:2021'!D12) -> 75

Sheet 6
B1: Einkaufsliste | I1: Erledigt? | J1: Artikel | K1: Kategorie | L1: Menge | M1: Preis
B2: DATUM | J2: Orangen | L2: >0
B3: Erledigt? | C3: Artikel | D3: Kategorie | E3: Menge | J3: Äpfel | L3: >0
B4: Ja | C4: Orangen | D4: Obst und Gemüse | E4: 3
B5: Ja | C5: Äpfel | D5: Obst und Gemüse | E5: 4
B6: Ja | C6: Bananen | D6: Obst und Gemüse | E6: 5
B7: Ja | C7: Salat | D7: Obst und Gemüse | E7: 6
B8: Ja | C8: Tomaten | D8: Obst und Gemüse | E8: 3
B9: Ja | C9: Milch | D9: Milchprodukte | E9: 8
B10: Nein | C10: Bananen | D10: Obst und Gemüse
B11: Ja | C11: Eier | D11: Milchprodukte | E11: 10
B12: Ja | C12: Orangen | D12: Obst und Gemüse | E12: 11
B13: Nein | C13: Rindfleisch | D13: Fleisch

Sheet 6 - Lösung
B1: Einkaufsliste | I1: Erledigt? | J1: Artikel | K1: Kategorie | L1: Menge | M1: Preis
B2: DATUM | J2: Orangen | L2: >0
B3: Erledigt? | C3: Artikel | D3: Kategorie | E3: Menge | J3: Äpfel | L3: >0
B4: Ja | C4: Orangen | D4: Obst und Gemüse | E4: 3
B5: Ja | C5: Äpfel | D5: Obst und Gemüse | E5: 4
B6: Ja | C6: Bananen | D6: Obst und Gemüse | E6: 5
B7: Ja | C7: Salat | D7: Obst und Gemüse | E7: 6
B8: Ja | C8: Tomaten | D8: Obst und Gemüse | E8: 3
B9: Ja | C9: Milch | D9: Milchprodukte | E9: 8
B10: Nein | C10: Bananen | D10: Obst und Gemüse
B11: Ja | C11: Eier | D11: Milchprodukte | E11: 10
B12: Ja | C12: Orangen | D12: Obst und Gemüse | E12: 11
B13: Nein | C13: Rindfleisch | D13: Fleisch

Sheet 7
A1: Zeitraum | B1: Umsatz
A2: 43831 | B2: 2100
A3: 43862 | B3: 300
A4: 43891 | B4: 400
A5: 43922 | B5: 250
A6: 43952 | B6: 600
A7: 43983 | B7: 3700
A8: 44013 | B8: 2800
A9: 44044 | B9: 2400
A10: 44075 | B10: 2200
A11: 44105 | B11: 2100
A14: Zeilenbeschriftungen | B14: Summe von Umsatz
A15: Jän | B15: 2100
A16: Feb | B16: 300
A17: Mär | B17: 400
A18: Apr | B18: 250
A19: Mai | B19: 600
A20: Jun | B20: 3700
A21: Jul | B21: 2800
A22: Aug | B22: 2400
A23: Sep | B23: 2200
A24: Okt | B24: 2100
A25: Gesamtergebnis | B25: 16850

Sheet 7 - Lösung
A1: Zeitraum | B1: Umsatz
A2: 43831 | B2: 2100
A3: 43862 | B3: 300
A4: 43891 | B4: 400
A5: 43922 | B5: 250
A6: 43952 | B6: 600
A7: 43983 | B7: 3700
A8: 44013 | B8: 2800
A9: 44044 | B9: 2400
A10: 44075 | B10: 2200
A11: 44105 | B11: 2100
A14: Zeilenbeschriftungen | B14: Summe von Umsatz
A15: Jän | B15: 2100
A16: Feb | B16: 300
A17: Mär | B17: 400
A18: Apr | B18: 250
A19: Mai | B19: 600
A20: Jun | B20: 3700
A21: Jul | B21: 2800
A22: Aug | B22: 2400
A23: Sep | B23: 2200
A24: Okt | B24: 2100
A25: Gesamtergebnis | B25: 16850

Sheet 8
A1: Zeitraum | B1: Umsatz 2020 | C1: Umsatz 2021
A2: 43831 | B2: 2100 | C2: 2520
A3: 43862 | B3: 300 | C3: 360
A4: 43891 | B4: 400 | C4: 400
A5: 43922 | B5: 250 | C5: 153
A6: 43952 | B6: 600 | C6: 720
A7: 43983 | B7: 3700 | C7: 3700
A8: 44013 | B8: 2800 | C8: 3360
A9: 44044 | B9: 2400 | C9: 2400
A10: 44075 | B10: 2200 | C10: 2640
A11: 44105 | B11: 2100 | C11: 2100
A14: Zeilenbeschriftungen | B14: Summe von Umsatz 2020
A15: 01.Jän | B15: 2100
A16: 01.Feb | B16: 300
A17: 01.Mär | B17: 400
A18: 01.Apr | B18: 250
A19: 01.Mai | B19: 600
A20: 01.Jun | B20: 3700
A21: 01.Jul | B21: 2800
A22: 01.Aug | B22: 2400
A23: 01.Sep | B23: 2200
A24: 01.Okt | B24: 2100
A25: Gesamtergebnis | B25: 16850
D33: 1.2

Sheet 8 - Lösung
A1: Zeitraum | B1: Umsatz 2020 | C1: Umsatz 2021
A2: 43831 | B2: 2100 | C2: 2520
A3: 43862 | B3: 300 | C3: 360
A4: 43891 | B4: 400 | C4: 400
A5: 43922 | B5: 250 | C5: 153
A6: 43952 | B6: 600 | C6: 720
A7: 43983 | B7: 3700 | C7: 3700
A8: 44013 | B8: 2800 | C8: 3360
A9: 44044 | B9: 2400 | C9: 2400
A10: 44075 | B10: 2200 | C10: 2640
A11: 44105 | B11: 2100 | C11: 2100
A14: Zeilenbeschriftungen | B14: Summe von Umsatz 2020 | C14: Summe von Umsatz 2021
A15: 01.Jän | B15: 2100 | C15: 2520
A16: 01.Feb | B16: 300 | C16: 360
A17: 01.Mär | B17: 400 | C17: 400
A18: 01.Apr | B18: 250 | C18: 153
A19: 01.Mai | B19: 600 | C19: 720
A20: 01.Jun | B20: 3700 | C20: 3700
A21: 01.Jul | B21: 2800 | C21: 3360
A22: 01.Aug | B22: 2400 | C22: 2400
A23: 01.Sep | B23: 2200 | C23: 2640
A24: 01.Okt | B24: 2100 | C24: 2100
A25: Gesamtergebnis | B25: 16850 | C25: 18353
D33: 1.2

Sheet 10
A1: Zeitraum | B1: Umsatz 2020 | C1: Umsatz 2021
A2: 43831 | B2: 2100 | C2: 2520
A3: 43862 | B3: 300 | C3: 360
A4: 43891 | B4: 400 | C4: 400
A5: 43922 | B5: 250 | C5: 153
A6: 43952 | B6: 600 | C6: 720
A7: 43983 | B7: 3700 | C7: 3700
A8: 44013 | B8: 2800 | C8: 3360
A9: 44044 | B9: 2400 | C9: 2400
A10: 44075 | B10: 2200 | C10: 2640
A11: 44105 | B11: 2100 | C11: 2100
A14: Zeilenbeschriftungen | B14: Summe von Umsatz 2020 | C14: Summe von Umsatz 2021
A15: 01.Jän | B15: 2100 | C15: 2520
A16: 01.Feb | B16: 300 | C16: 360
A17: 01.Mär | B17: 400 | C17: 400
A18: 01.Apr | B18: 250 | C18: 153
A19: 01.Mai | B19: 600 | C19: 720
A20: 01.Jun | B20: 3700 | C20: 3700
A21: 01.Jul | B21: 2800 | C21: 3360
A22: 01.Aug | B22: 2400 | C22: 2400
A23: 01.Sep | B23: 2200 | C23: 2640
A24: 01.Okt | B24: 2100 | C24: 2100
A25: Gesamtergebnis | B25: 16850 | C25: 18353
D33: 1.2

Sheet 10 - Lösung
A1: Zeitraum | B1: Umsatz 2020 | C1: Umsatz 2021
A2: 43831 | B2: 2100 | C2: 2520
A3: 43862 | B3: 300 | C3: 360
A4: 43891 | B4: 400 | C4: 400
A5: 43922 | B5: 250 | C5: 153
A6: 43952 | B6: 600 | C6: 720
A7: 43983 | B7: 3700 | C7: 3700
A8: 44013 | B8: 2800 | C8: 3360
A9: 44044 | B9: 2400 | C9: 2400
A10: 44075 | B10: 2200 | C10: 2640
A11: 44105 | B11: 2100 | C11: 2100
A14: Zeilenbeschriftungen | B14: Summe von Umsatz 2020 | C14: Summe von Umsatz 2021
A15: 01.Jän | B15: 2100 | C15: 2520
A16: 01.Feb | B16: 300 | C16: 360
A17: 01.Mär | B17: 400 | C17: 400
A18: 01.Apr | B18: 250 | C18: 153
A19: 01.Mai | B19: 600 | C19: 720
A20: 01.Jun | B20: 3700 | C20: 3700
A21: 01.Jul | B21: 2800 | C21: 3360
A22: 01.Aug | B22: 2400 | C22: 2400
A23: 01.Sep | B23: 2200 | C23: 2640
A24: 01.Okt | B24: 2100 | C24: 2100
A25: Gesamtergebnis | B25: 16850 | C25: 18353
D33: 1.2
